BEGIN:VCALENDAR
VERSION:2.0
PRODID:-//arch.academy
CALSCALE:GREGORIAN
METHOD:PUBLISH
X-WR-CALNAME:arch.academy
X-ORIGINAL-URL:https://archacademy.it/prodotto/vollversammlung-archacademy-assemblea-annuale-archacademy/
X-WR-CALDESC:Vollversammlung archacademy | Assemblea annuale archacademy
BEGIN:VEVENT
DTSTART:20220520T180000
DTEND:20220520T200000
SUMMARY:Vollversammlung archacademy | Assemblea annuale archacademy
DESCRIPTION:Gentili iscritti dell'associazione archacademy,
Vi invitiamo <strong>all'Assemblea annuale dell'archacademy,</strong> la quale si terrà

<strong>venerdi, 20/05/2022
alle ore 18.00 presso il Centro Pastorale, Piazza Duomo 2, Bolzano
</strong>
<strong>Vi chiediamo di iscrivervi e confermare cosi la vostra presenza entro il 19/05/2022 - NON SONO PREVISTI CREDITI FORMATIVI PROFESSIONALI!!</strong>
La convocazione e l'ordine del giorno sono stati inviati con PEC separata. <strong> </strong>

--------------------------------------------------------------------------------

Werte Mitglieder des Vereines archacademy,
wir dürfen Euch zur <strong>Jahresversammlung der archacademy </strong>einladen, welche am

<strong>Freitag, 20/05/2022
um 18.00 Uhr im Pastoralzentrum, Domplatz 2, Bozen </strong>stattfindet.

<strong>Wir bitten, euch innerhalb 19/05/2022 </strong><strong>anzumelden und somit eure Teilnahme zu bestätigen. ES SIND KEINE BERUFLICHEN FORTBILDUNGSCREDITS VORGESEHEN!</strong>
Die entsprechende Einberufung und Tagesordnung mittels separater PEC-Mail versendet.

Arch. Verena Unterberger
Presidente/Präsidentin
archacademy

Arch. Itta Maurer
Segretaria/Sekretärin
archacademy
LOCATION:Pastoralzentrum Bozen - Centro Pastorale Bolzano, Domplatz, Bozen, Autonome Provinz Bozen - Südtirol, Italien
END:VEVENT
END:VCALENDAR
